BEGIN:VCALENDAR
VERSION:2.0
PRODID:-//InvisionCommunity Events 4.7.24//EN
METHOD:PUBLISH
CALSCALE:GREGORIAN
REFRESH-INTERVAL:PT15M
X-PUBLISHED-TTL:PT15M
X-WR-CALNAME:Hell Let Loose
NAME:Hell Let Loose
BEGIN:VTIMEZONE
TZID:Europe/London
TZURL:http://tzurl.org/zoneinfo/Europe/London
X-LIC-LOCATION:Europe/London
BEGIN:DAYLIGHT
TZOFFSETFROM:+0000
TZOFFSETTO:+0100
TZNAME:BST
DTSTART:20260329T020000Z
RRULE:FREQ=YEARLY;BYMONTH=3;BYDAY=-1SU
END:DAYLIGHT
BEGIN:STANDARD
TZOFFSETFROM:+0100
TZOFFSETTO:+0000
TZNAME:GMT
DTSTART:20261025T020000Z
RRULE:FREQ=YEARLY;BYMONTH=10;BYDAY=-1SU
END:STANDARD
END:VTIMEZONE
BEGIN:VTIMEZONE
TZID:Europe/London
TZURL:http://tzurl.org/zoneinfo/Europe/London
X-LIC-LOCATION:Europe/London
BEGIN:DAYLIGHT
TZOFFSETFROM:+0000
TZOFFSETTO:+0100
TZNAME:BST
DTSTART:20230326T020000Z
RRULE:FREQ=YEARLY;BYMONTH=3;BYDAY=-1SU
END:DAYLIGHT
BEGIN:STANDARD
TZOFFSETFROM:+0100
TZOFFSETTO:+0000
TZNAME:GMT
DTSTART:20231029T020000Z
RRULE:FREQ=YEARLY;BYMONTH=10;BYDAY=-1SU
END:STANDARD
END:VTIMEZONE
BEGIN:VTIMEZONE
TZID:Europe/London
TZURL:http://tzurl.org/zoneinfo/Europe/London
X-LIC-LOCATION:Europe/London
BEGIN:DAYLIGHT
TZOFFSETFROM:+0000
TZOFFSETTO:+0100
TZNAME:BST
DTSTART:20220327T020000Z
RRULE:FREQ=YEARLY;BYMONTH=3;BYDAY=-1SU
END:DAYLIGHT
BEGIN:STANDARD
TZOFFSETFROM:+0100
TZOFFSETTO:+0000
TZNAME:GMT
DTSTART:20221030T020000Z
RRULE:FREQ=YEARLY;BYMONTH=10;BYDAY=-1SU
END:STANDARD
END:VTIMEZONE
BEGIN:VEVENT
SUMMARY:Hell Let Loose - Open Play Every Tuesday
DTSTAMP:20260324T112610Z
SEQUENCE:0
UID:513-22-1536b3ea569b7c95098fff41bd194ecf@cmp-gaming.com
ORGANIZER;CN="RAnDOOm":contact@cmp-gaming.com
DESCRIPTION:\n	\n\n\n\n	\n		\n			Hell Let Loose - Open Play Every Tuesda
	y\n		\n\n		\n			Let's join CMP Teamspeak\, find a nice server\, create a s
	quad and get to work \n\n			Infantry\, Armor\, Artillery\, Recon.\n\n			Wh
	atever we feel like.\n		\n	\n\n
DTSTART:20260324T190000Z
DTEND:20260324T210000Z
RRULE:FREQ=WEEKLY;INTERVAL=1;BYDAY=TU
END:VEVENT
BEGIN:VEVENT
SUMMARY:CMP Hell Let Loose Community Game Night
DTSTAMP:20230404T090745Z
SEQUENCE:0
UID:411-22-1536b3ea569b7c95098fff41bd194ecf@cmp-gaming.com
ORGANIZER;CN="Hawk":contact@cmp-gaming.com
DESCRIPTION:\n	We are joining a game event at the SPH Server with other 
	communities. April 15th at 18:30 UTC (30 mins later than current CMP battl
	etime(tm) ) We start to meet up on the CMP Teamspeak shortly before the ev
	ent starts.\n\nHLL- Server: \"[SPH] NEW PLAYER FRIENDLY - ENG/ESP\"\n\n
DTSTART:20230415T183000Z
END:VEVENT
BEGIN:VEVENT
SUMMARY:CMP Hell Let Loose Casual Game Night
DTSTAMP:20230112T215553Z
SEQUENCE:0
UID:385-22-1536b3ea569b7c95098fff41bd194ecf@cmp-gaming.com
ORGANIZER;CN="Hawk":contact@cmp-gaming.com
DESCRIPTION:\n	\n		\n			\n\nHell Let Loose CMP Casual Game Night\n		\n	\
	n\n\n\n	We meet up at CMP BATTLE TIME on Teamspeak\, find a game server\, 
	form our squads and have a great evening! 🍻\n\n\n\n	When:  Saturday - 
	14th January - 19hUTC\nWhere:  Join CMP Teamspeak \,Hell Let Loose channe
	l and ask for the server\nDownload:  https://store.steampowered.com/app/6
	86810/Hell_Let_Loose/\n\n
DTSTART:20230114T190000Z
DTEND:20230114T225900Z
END:VEVENT
BEGIN:VEVENT
SUMMARY:Hell Let Loose CMP Casual Game Night
DTSTAMP:20221212T221741Z
SEQUENCE:0
UID:384-22-1536b3ea569b7c95098fff41bd194ecf@cmp-gaming.com
ORGANIZER;CN="Hawk":contact@cmp-gaming.com
DESCRIPTION:\n	\n		\n			\n\nHell Let Loose CMP Casual Game Night\n		\n	\
	n\n\n\n	We meet up at CMP BATTLE TIME on Teamspeak\, find a game server\, 
	form our squads and have a great evening! 🍻\n\n\n\n	When:  Saturday - 
	17th Dezember - 19hUTC\nWhere:  Join CMP Teamspeak \,Hell Let Loose chann
	el and ask for the server\nDownload:  https://store.steampowered.com/app/
	686810/Hell_Let_Loose/\n\n
DTSTART:20221217T190000Z
END:VEVENT
END:VCALENDAR
