BEGIN:VCALENDAR
VERSION:2.0
PRODID:-//InvisionCommunity Events 4.7.24//EN
METHOD:PUBLISH
CALSCALE:GREGORIAN
REFRESH-INTERVAL:PT15M
X-PUBLISHED-TTL:PT15M
X-WR-CALNAME:Star Citizen
NAME:Star Citizen
BEGIN:VTIMEZONE
TZID:Europe/London
TZURL:http://tzurl.org/zoneinfo/Europe/London
X-LIC-LOCATION:Europe/London
BEGIN:DAYLIGHT
TZOFFSETFROM:+0000
TZOFFSETTO:+0100
TZNAME:BST
DTSTART:20260329T020000Z
RRULE:FREQ=YEARLY;BYMONTH=3;BYDAY=-1SU
END:DAYLIGHT
BEGIN:STANDARD
TZOFFSETFROM:+0100
TZOFFSETTO:+0000
TZNAME:GMT
DTSTART:20261025T020000Z
RRULE:FREQ=YEARLY;BYMONTH=10;BYDAY=-1SU
END:STANDARD
END:VTIMEZONE
BEGIN:VTIMEZONE
TZID:Europe/London
TZURL:http://tzurl.org/zoneinfo/Europe/London
X-LIC-LOCATION:Europe/London
BEGIN:DAYLIGHT
TZOFFSETFROM:+0000
TZOFFSETTO:+0100
TZNAME:BST
DTSTART:20250330T020000Z
RRULE:FREQ=YEARLY;BYMONTH=3;BYDAY=-1SU
END:DAYLIGHT
BEGIN:STANDARD
TZOFFSETFROM:+0100
TZOFFSETTO:+0000
TZNAME:GMT
DTSTART:20251026T020000Z
RRULE:FREQ=YEARLY;BYMONTH=10;BYDAY=-1SU
END:STANDARD
END:VTIMEZONE
BEGIN:VTIMEZONE
TZID:Europe/London
TZURL:http://tzurl.org/zoneinfo/Europe/London
X-LIC-LOCATION:Europe/London
BEGIN:DAYLIGHT
TZOFFSETFROM:+0000
TZOFFSETTO:+0100
TZNAME:BST
DTSTART:20240331T020000Z
RRULE:FREQ=YEARLY;BYMONTH=3;BYDAY=-1SU
END:DAYLIGHT
BEGIN:STANDARD
TZOFFSETFROM:+0100
TZOFFSETTO:+0000
TZNAME:GMT
DTSTART:20241027T020000Z
RRULE:FREQ=YEARLY;BYMONTH=10;BYDAY=-1SU
END:STANDARD
END:VTIMEZONE
BEGIN:VTIMEZONE
TZID:Europe/London
TZURL:http://tzurl.org/zoneinfo/Europe/London
X-LIC-LOCATION:Europe/London
BEGIN:DAYLIGHT
TZOFFSETFROM:+0000
TZOFFSETTO:+0100
TZNAME:BST
DTSTART:20210328T020000Z
RRULE:FREQ=YEARLY;BYMONTH=3;BYDAY=-1SU
END:DAYLIGHT
BEGIN:STANDARD
TZOFFSETFROM:+0100
TZOFFSETTO:+0000
TZNAME:GMT
DTSTART:20211031T020000Z
RRULE:FREQ=YEARLY;BYMONTH=10;BYDAY=-1SU
END:STANDARD
END:VTIMEZONE
BEGIN:VTIMEZONE
TZID:Europe/London
TZURL:http://tzurl.org/zoneinfo/Europe/London
X-LIC-LOCATION:Europe/London
BEGIN:DAYLIGHT
TZOFFSETFROM:+0000
TZOFFSETTO:+0100
TZNAME:BST
DTSTART:20200329T020000Z
RRULE:FREQ=YEARLY;BYMONTH=3;BYDAY=-1SU
END:DAYLIGHT
BEGIN:STANDARD
TZOFFSETFROM:+0100
TZOFFSETTO:+0000
TZNAME:GMT
DTSTART:20201025T020000Z
RRULE:FREQ=YEARLY;BYMONTH=10;BYDAY=-1SU
END:STANDARD
END:VTIMEZONE
BEGIN:VTIMEZONE
TZID:Europe/London
TZURL:http://tzurl.org/zoneinfo/Europe/London
X-LIC-LOCATION:Europe/London
BEGIN:DAYLIGHT
TZOFFSETFROM:+0000
TZOFFSETTO:+0100
TZNAME:BST
DTSTART:20190331T020000Z
RRULE:FREQ=YEARLY;BYMONTH=3;BYDAY=-1SU
END:DAYLIGHT
BEGIN:STANDARD
TZOFFSETFROM:+0100
TZOFFSETTO:+0000
TZNAME:GMT
DTSTART:20191027T020000Z
RRULE:FREQ=YEARLY;BYMONTH=10;BYDAY=-1SU
END:STANDARD
END:VTIMEZONE
BEGIN:VEVENT
SUMMARY:Star Citizen Daymar Rally Practice Event
DTSTAMP:20250729T195849Z
SEQUENCE:0
UID:494-18-1536b3ea569b7c95098fff41bd194ecf@cmp-gaming.com
ORGANIZER;CN="Quicksilver":contact@cmp-gaming.com
DESCRIPTION:\n	\n\n\n\n	Daymar Rally - Practice\n\n\n\n	Practice for the
	 2955 Daymar Rally.\n\n
DTSTART:20260109T190000Z
DTEND:20260109T230000Z
END:VEVENT
BEGIN:VEVENT
SUMMARY:Star Citizen Daymar Rally Practice Event
DTSTAMP:20251124T162915Z
SEQUENCE:0
UID:508-18-1536b3ea569b7c95098fff41bd194ecf@cmp-gaming.com
ORGANIZER;CN="Quicksilver":contact@cmp-gaming.com
DESCRIPTION:\n	\n\n\n\n	Daymar Rally - Practice\n\n\n\n	Practice for the
	 2955 Daymar Rally.\n\n
DTSTART:20260116T190000Z
DTEND:20260116T230000Z
END:VEVENT
BEGIN:VEVENT
SUMMARY:Star Citizen Daymar Rally
DTSTAMP:20251121T163717Z
SEQUENCE:0
UID:507-18-1536b3ea569b7c95098fff41bd194ecf@cmp-gaming.com
ORGANIZER;CN="Quicksilver":contact@cmp-gaming.com
DESCRIPTION:\n	\n\n\n\n	Daymar Rally - Race Day\n\n\n\n	Saturday\, Janur
	y 24th - January 25th\, 2025\n\n\n\n	4:00PM - 04:00AM UTC\n\n\n\n	Time to 
	race!\n\n
DTSTART:20260124T160000Z
DTEND:20260125T040000Z
END:VEVENT
BEGIN:VEVENT
SUMMARY:Star Citizen Daymar Rally
DTSTAMP:20241006T154618Z
SEQUENCE:0
UID:452-18-1536b3ea569b7c95098fff41bd194ecf@cmp-gaming.com
ORGANIZER;CN="Quicksilver":contact@cmp-gaming.com
DESCRIPTION:\n	\n\n\n\n	Daymar Rally - Race Day\n\n\n\n	Saturday\, Janur
	y 18th\, 2025\n\n\n\n	4:00PM - 11:00PM UTC\n\n\n\n	This is your last chanc
	e to practice before the big one so you better get a move on\, grab a note
	book\, and make a note of where every rock\, valley\, and hole is during t
	his 514 km run.\n\n
DTSTART:20250118T160000Z
DTEND:20250118T230000Z
END:VEVENT
BEGIN:VEVENT
SUMMARY:Star Citizen Daymar Rally Practice Event
DTSTAMP:20241006T154342Z
SEQUENCE:0
UID:451-18-1536b3ea569b7c95098fff41bd194ecf@cmp-gaming.com
ORGANIZER;CN="Quicksilver":contact@cmp-gaming.com
DESCRIPTION:\n	\n\n\n\n	Daymar Rally - Practice\n\n\n\n	Saturday\, Janur
	y 11th\, 2025\n\n\n\n	7:00PM - 10:00PM UTC\n\n\n\n	This is your last chanc
	e to practice before the big one so you better get a move on\, grab a note
	book\, and make a note of where every rock\, valley\, and hole is during t
	his 514 km run.\n\n
DTSTART:20250111T190000Z
DTEND:20250111T220000Z
END:VEVENT
BEGIN:VEVENT
SUMMARY:Star Citizen Daymar Rally Practice Event
DTSTAMP:20241006T154215Z
SEQUENCE:0
UID:450-18-1536b3ea569b7c95098fff41bd194ecf@cmp-gaming.com
ORGANIZER;CN="Quicksilver":contact@cmp-gaming.com
DESCRIPTION:\n	\n\n\n\n	Daymar Rally - Practice\n\n\n\n	Saturday\, Decem
	ber 14th\, 2024\n\n\n\n	7:00PM - 10:00PM UTC\n\n\n\n	The second chance to 
	practice for the 2955 Daymar Rally.\n\n
DTSTART:20241214T190000Z
DTEND:20241214T220000Z
END:VEVENT
BEGIN:VEVENT
SUMMARY:Star Citizen Daymar Rally Practice Event
DTSTAMP:20241006T154011Z
SEQUENCE:0
UID:449-18-1536b3ea569b7c95098fff41bd194ecf@cmp-gaming.com
ORGANIZER;CN="Quicksilver":contact@cmp-gaming.com
DESCRIPTION:\n	\n\n\n\n	Daymar Rally - Practice\n\n\n\n	Saturday\, Novem
	ber 16th\, 2024\n\n\n\n	7:00PM - 10:00PM UTC\n\n\n\n	The first chance to g
	et some practice in for the 2955 Daymar Rally.\n\n
DTSTART:20241116T190000Z
END:VEVENT
BEGIN:VEVENT
SUMMARY:Star Citizen Social
DTSTAMP:20240705T095846Z
SEQUENCE:0
UID:447-18-1536b3ea569b7c95098fff41bd194ecf@cmp-gaming.com
ORGANIZER;CN="Quicksilver":contact@cmp-gaming.com
DESCRIPTION:\n	\n\n\n\n	Star Citizen Social\n\n\n\n	Come and join the St
	ar Citizen group for a social event where we take on missions around the S
	tanton system.\n\n\n\n	All are welcome. We have plenty of ships from singl
	e-seaters to multi-crew leviathons to try out!\n\n\n\n	Jump into Teamspeak
	 and look for the group on a Friday evening at 18:00UTC\, or come and post
	 in the #sc-general channel on Discord.\n\n\n\n	You can also join our orga
	nisation: ANTCORP at https://robertsspaceindustries.com/orgs/ANTCORP\n\n
DTSTART:20240705T180000Z
DTEND:20240705T210000Z
RRULE:FREQ=WEEKLY;INTERVAL=1;UNTIL=20240906T000000;BYDAY=FR
END:VEVENT
BEGIN:VEVENT
SUMMARY:Star Citizen Daymar Rally Tournament
DTSTAMP:20231204T201334Z
SEQUENCE:0
UID:430-18-1536b3ea569b7c95098fff41bd194ecf@cmp-gaming.com
ORGANIZER;CN="Quicksilver":contact@cmp-gaming.com
DESCRIPTION:\n	\n\n\n\n	2954 Daymar Rally - TOURNAMENT\n\n\n\n	Saturday\
	, January 20\, 2024\n\n\n\n	4:00PM - 10:00PM UTC\n\n\n\n	Watch the race on
	 Twitch!\n\n\n\n	Watch the race on YouTube!\n\n\n\n	The time for practice 
	is over…\n\n	\n\n	3 Divisions\n\n	1\,200+ people\n\n	1 Champion (of each
	 division)\n\n	\n\n	Welcome to the filthiest race in the ‘Verse\, the 29
	54 Daymar Rally\n\n
DTSTART:20240120T160000Z
DTEND:20240120T220000Z
END:VEVENT
BEGIN:VEVENT
SUMMARY:Star Citizen Daymar Rally Practice Event
DTSTAMP:20231204T200719Z
SEQUENCE:0
UID:429-18-1536b3ea569b7c95098fff41bd194ecf@cmp-gaming.com
ORGANIZER;CN="Quicksilver":contact@cmp-gaming.com
DESCRIPTION:\n	\n\n\n\n	Daymar Rally - LAST Live Broadcast Practice\n\n\
	n\n	Saturday\, January 6\, 2024\n\n\n\n	7:00PM - 10:00PM UTC\n\n\n\n	This 
	is your last chance to get some practice in before “THE” big day comes
	 and everyone is racing across Daymar in the 2954 Daymar Rally.\n\n
DTSTART:20240106T190000Z
DTEND:20240106T220000Z
END:VEVENT
BEGIN:VEVENT
SUMMARY:Star Citizen Social Gathering
DTSTAMP:20210108T161855Z
SEQUENCE:0
UID:264-18-1536b3ea569b7c95098fff41bd194ecf@cmp-gaming.com
ORGANIZER;CN="Quicksilver":contact@cmp-gaming.com
DESCRIPTION:\n	\n\n\n	 \n\n\n\n	A Star Citizen Social Gathering\n\n\n\n
		Star Citizen players from CMP will be meeting up to check out new ships a
	nd vehicles\,\n\n	co-operate on missions and generally have some fun.\n\n\
	n\n	We'll focus on ship based combat\, bounty hunting and ground missions.
	 Come and join us on Teamspeak!\n
DTSTART:20210115T190000Z
DTEND:20210115T220000Z
END:VEVENT
BEGIN:VEVENT
SUMMARY:Star Citizen Social - Free Fly Event
DTSTAMP:20201117T232326Z
SEQUENCE:0
UID:262-18-1536b3ea569b7c95098fff41bd194ecf@cmp-gaming.com
ORGANIZER;CN="Quicksilver":contact@cmp-gaming.com
DESCRIPTION:\n	\n\n\n	A Star Citizen Social Gathering\n\n\n\n	Celebratin
	g Star Citizen's Intergalactic Aerospace Expo and Free Fly Week\, the Star
	 Citizen players from CMP\n\n	will be meeting up to check out new ships an
	d vehicles\, co-operate on missions and generally have some fun.\n\n\n\n	T
	here will be bugs\, crashes and all the weird things you expect from a gam
	e still in development\, but\n\n	if you want to try out the game for free\
	, download it and then come and join us on Teamspeak!\n\n\n\n	Try the game
	 for free from the 20th November. The game is about 63Gb\n\n\n\n	Find out 
	more at https://robertsspaceindustries.com/iae2950\n
DTSTART:20201129T190000Z
DTEND:20201129T223000Z
END:VEVENT
BEGIN:VEVENT
SUMMARY:Star Citizen Social Gathering
DTSTAMP:20200630T200758Z
SEQUENCE:0
UID:237-18-1536b3ea569b7c95098fff41bd194ecf@cmp-gaming.com
ORGANIZER;CN="Quicksilver":contact@cmp-gaming.com
DESCRIPTION:\n	CMP ANTCORP Star Citizen Social Gathering\n\n\n\n	Come an
	d join us as we take on missions in the Star Citizen universe\n
DTSTART:20200703T180000Z
DTEND:20200703T210000Z
END:VEVENT
BEGIN:VEVENT
SUMMARY:Star Citizen Free Fly Event
DTSTAMP:20200517T095528Z
SEQUENCE:0
UID:221-18-1536b3ea569b7c95098fff41bd194ecf@cmp-gaming.com
ORGANIZER;CN="Quicksilver":contact@cmp-gaming.com
DESCRIPTION:\n	A Social Gathering In Star Citizen - Try It For Free!\n\n
	\n\n	We'll try some missions in bounty hunting\, piracy\, exploration and 
	more!\n\n\n\n	Come and join us during this free fly event where you can tr
	y the game for free!\n
DTSTART:20200524T180000Z
DTEND:20200524T210000Z
END:VEVENT
BEGIN:VEVENT
SUMMARY:Star Citizen Social Gathering
DTSTAMP:20200505T223103Z
SEQUENCE:0
UID:219-18-1536b3ea569b7c95098fff41bd194ecf@cmp-gaming.com
ORGANIZER;CN="Quicksilver":contact@cmp-gaming.com
DESCRIPTION:\n	A friendly meet up in the Star Citizen universe!\n\n\n\n	
	We'll do some missions\, explore some planets and die a lot.\n\n\n\n	Come 
	and join the ANTCORP group!\n
DTSTART:20200510T190000Z
DTEND:20200510T220000Z
END:VEVENT
BEGIN:VEVENT
SUMMARY:Star Citizen ANTCORP Social Meet Up
DTSTAMP:20191101T142848Z
SEQUENCE:0
UID:195-18-1536b3ea569b7c95098fff41bd194ecf@cmp-gaming.com
ORGANIZER;CN="Quicksilver":contact@cmp-gaming.com
DESCRIPTION:\n	\n\n\n	ANTCORP Social Meeting\n\n\n\n	Let's meet up in th
	e Star Citizen universe.\n\n\n	Try out some personal mining\, bounty hunti
	ng (anyone want to take on a Hammerhead?)\n\n	and whatever else we feel li
	ke doing!\n
DTSTART:20191117T193000Z
DTEND:20191117T223000Z
END:VEVENT
BEGIN:VEVENT
SUMMARY:Star Citizen ANTCORP Social Meet Up
DTSTAMP:20191015T103532Z
SEQUENCE:0
UID:175-18-1536b3ea569b7c95098fff41bd194ecf@cmp-gaming.com
ORGANIZER;CN="Quicksilver":contact@cmp-gaming.com
DESCRIPTION:\n	\n\n\n	ANTCORP Social Meeting\n\n\n\n	Let's meet up in th
	e Star Citizen universe.\n\n\n	Try out some personal mining\, bounty hunti
	ng (anyone want to take on a Hammerhead?)\n\n	and whatever else we feel li
	ke doing!\n
DTSTART:20191020T180000Z
DTEND:20191020T210000Z
END:VEVENT
BEGIN:VEVENT
SUMMARY:Star Citizen ANTCORP Social Meet Up
DTSTAMP:20190813T100447Z
SEQUENCE:0
UID:156-18-1536b3ea569b7c95098fff41bd194ecf@cmp-gaming.com
ORGANIZER;CN="Quicksilver":contact@cmp-gaming.com
DESCRIPTION:\n	\n\n\n	ANTCORP Members Meet Up\n\n\n\n	Do some missions a
	nd have a little fun. All welcome!\n
DTSTART:20190816T180000Z
DTEND:20190816T220000Z
END:VEVENT
BEGIN:VEVENT
SUMMARY:Star Citizen Daymar Rally
DTSTAMP:20190802T144437Z
SEQUENCE:0
UID:150-18-1536b3ea569b7c95098fff41bd194ecf@cmp-gaming.com
ORGANIZER;CN="Quicksilver":contact@cmp-gaming.com
DESCRIPTION:\n	\n\nU.S SERVER\n\n\n\n	Add Cor5aire as an RSI friend to 
	join the party.\n\n\n\n	Official race start Saturday 25th January 2950- 16
	.00 UTC\n\n\n\n	Friend requests sent out @ 15.00 UTC\n\n\n\n	UTC Sat\, 25t
	h January 2020 at 15:00 \n
DTSTART:20200125T150000Z
END:VEVENT
BEGIN:VEVENT
SUMMARY:Star Citizen Daymar Rally Last Practice Run
DTSTAMP:20190802T144114Z
SEQUENCE:0
UID:149-18-1536b3ea569b7c95098fff41bd194ecf@cmp-gaming.com
ORGANIZER;CN="Quicksilver":contact@cmp-gaming.com
DESCRIPTION:\n	\n\nU.S SERVER\n\n\n\n	Add Cor5aire as an RSI friend to 
	join the party.\n\n\n\n	Official race start Saturday 11th January 2950- 21
	.30 UTC\n\n\n\n	Friend requests sent out @ 20.00 UTC\n\n\n\n	UTC Sat\, 11t
	h January 2020 at 20:00 \n
DTSTART:20200111T200000Z
END:VEVENT
BEGIN:VEVENT
SUMMARY:Star Citizen Daymar Rally Practice Run
DTSTAMP:20190802T143819Z
SEQUENCE:0
UID:148-18-1536b3ea569b7c95098fff41bd194ecf@cmp-gaming.com
ORGANIZER;CN="Quicksilver":contact@cmp-gaming.com
DESCRIPTION:\n	\n\nU.S SERVER\n\n\n\n	Add Cor5aire as an RSI friend to 
	join the party.\n\n\n\n	Official race start Saturday 2nd November 2949- 21
	.30 UTC\n\n\n\n	Friend requests sent out @ 20.00 UTC\n\n\n\n	UTC Sat\, 2nd
	 November 2019 at 20:00 \n
DTSTART:20191102T200000Z
END:VEVENT
BEGIN:VEVENT
SUMMARY:Star Citizen Daymar Rally Practice Run
DTSTAMP:20190802T143707Z
SEQUENCE:0
UID:147-18-1536b3ea569b7c95098fff41bd194ecf@cmp-gaming.com
ORGANIZER;CN="Quicksilver":contact@cmp-gaming.com
DESCRIPTION:\n	\n\nU.S SERVER\n\n\n\n	Add Cor5aire as an RSI friend to 
	join the party.\n\n\n\n	Official race start Saturday 5th October 2949- 21.
	30 UTC\n\n\n\n	Friend requests sent out @ 20.00 UTC\n\n\n\n	UTC Sat\, 5th 
	October 2019 at 20:00 \n
DTSTART:20191005T200000Z
END:VEVENT
BEGIN:VEVENT
SUMMARY:Star Citizen Daymar Rally Practice Run
DTSTAMP:20190802T143558Z
SEQUENCE:0
UID:146-18-1536b3ea569b7c95098fff41bd194ecf@cmp-gaming.com
ORGANIZER;CN="Quicksilver":contact@cmp-gaming.com
DESCRIPTION:\n	\n\nU.S SERVER\n\n\n\n	Add Cor5aire as an RSI friend to 
	join the party.\n\n\n\n	Official race start Saturday 7th September 2949- 2
	1.30 UTC\n\n\n\n	Friend requests sent out @ 20.00 UTC\n\n\n\n	UTC Sat\, 7t
	h September 2019 at 20:00 \n
DTSTART:20190907T200000Z
END:VEVENT
BEGIN:VEVENT
SUMMARY:Star Citizen Daymar Rally \"Reclaim The Lead\" Event
DTSTAMP:20190509T181921Z
SEQUENCE:0
UID:127-18-1536b3ea569b7c95098fff41bd194ecf@cmp-gaming.com
ORGANIZER;CN="Quicksilver":contact@cmp-gaming.com
DESCRIPTION:\n	\n\nU.S SERVER\n\n\n\n	Add Cor5aire as an RSI friend to 
	join the party.\n\n\n\n	Official race start Saturday 10th August 2949- 21.
	30 UTC\n\n\n\n	Friend requests sent out @ 20.00 UTC\n\n\n\n	UTC Sat\, 10th
	 August 2019 at 20:00 \n
DTSTART:20190810T213000Z
END:VEVENT
BEGIN:VEVENT
SUMMARY:Star Citizen Daymar Rally Large Scale Live Stream Practice R
	un
DTSTAMP:20190509T180913Z
SEQUENCE:0
UID:126-18-1536b3ea569b7c95098fff41bd194ecf@cmp-gaming.com
ORGANIZER;CN="Quicksilver":contact@cmp-gaming.com
DESCRIPTION:\n	\n\nU.S SERVER\n\n\n\n	Add Cor5aire as an RSI friend to 
	join the party.\n\n\n\n	Official race start Saturday 6th July 2949- 21.30 
	UTC\n\n\n\n	Friend requests sent out @ 20.00 UTC\n\n\n\n	UTC Sat\, 6th Jul
	y 2019 at 20:00\n
DTSTART:20190706T213000Z
END:VEVENT
BEGIN:VEVENT
SUMMARY:Star Citizen Annual Grey Cat Social Event
DTSTAMP:20190509T180343Z
SEQUENCE:0
UID:125-18-1536b3ea569b7c95098fff41bd194ecf@cmp-gaming.com
ORGANIZER;CN="Quicksilver":contact@cmp-gaming.com
DESCRIPTION:\n	\n\n\n\n	U.S SERVER\n\n\n\n	UTC Sat\, 14th June 2019 at 2
	0:00\n\n\n\n	Add Cor5aire as an RSI friend to join the party.\n\n\n\n	Fri
	end requests sent out @ 20.00 UTC\n\n\n\n	Official race start Saturday 15t
	h June 2949- 21.30 UTC\n
DTSTART:20190615T200000Z
END:VEVENT
BEGIN:VEVENT
SUMMARY:Star Citizen Daymar Rally May Day 4th Quarter Sprint
DTSTAMP:20190509T175512Z
SEQUENCE:0
UID:124-18-1536b3ea569b7c95098fff41bd194ecf@cmp-gaming.com
ORGANIZER;CN="Quicksilver":contact@cmp-gaming.com
DESCRIPTION:\n	\n\n\n\n	U.S SERVER\n\n\n\n	Add Cor5aire as an RSI friend
	 to join the party.\n\n\n\n	UTC  Sat\, 18th MAY 2019 at 20:00\n\n\n\n	Fri
	end requests sent out @ 20.00 UTC\n\n\n\n	Launch server and fly to locatio
	n @ 20.30 UTC\n\n\n\n	Official race start Saturday 18th May 2949-  21.15 
	UTC \n
DTSTART:20190518T200000Z
END:VEVENT
END:VCALENDAR
