BEGIN:VCALENDAR
VERSION:2.0
PRODID:-//InvisionCommunity Events 4.7.24//EN
METHOD:PUBLISH
CALSCALE:GREGORIAN
REFRESH-INTERVAL:PT15M
X-PUBLISHED-TTL:PT15M
X-WR-CALNAME:Community Calendar
NAME:Community Calendar
BEGIN:VTIMEZONE
TZID:Europe/London
TZURL:http://tzurl.org/zoneinfo/Europe/London
X-LIC-LOCATION:Europe/London
BEGIN:DAYLIGHT
TZOFFSETFROM:+0000
TZOFFSETTO:+0100
TZNAME:BST
DTSTART:20240331T020000Z
RRULE:FREQ=YEARLY;BYMONTH=3;BYDAY=-1SU
END:DAYLIGHT
BEGIN:STANDARD
TZOFFSETFROM:+0100
TZOFFSETTO:+0000
TZNAME:GMT
DTSTART:20241027T020000Z
RRULE:FREQ=YEARLY;BYMONTH=10;BYDAY=-1SU
END:STANDARD
END:VTIMEZONE
BEGIN:VTIMEZONE
TZID:Europe/London
TZURL:http://tzurl.org/zoneinfo/Europe/London
X-LIC-LOCATION:Europe/London
BEGIN:DAYLIGHT
TZOFFSETFROM:+0000
TZOFFSETTO:+0100
TZNAME:BST
DTSTART:20200329T020000Z
RRULE:FREQ=YEARLY;BYMONTH=3;BYDAY=-1SU
END:DAYLIGHT
BEGIN:STANDARD
TZOFFSETFROM:+0100
TZOFFSETTO:+0000
TZNAME:GMT
DTSTART:20201025T020000Z
RRULE:FREQ=YEARLY;BYMONTH=10;BYDAY=-1SU
END:STANDARD
END:VTIMEZONE
BEGIN:VTIMEZONE
TZID:Europe/London
TZURL:http://tzurl.org/zoneinfo/Europe/London
X-LIC-LOCATION:Europe/London
BEGIN:DAYLIGHT
TZOFFSETFROM:+0000
TZOFFSETTO:+0100
TZNAME:BST
DTSTART:20210328T020000Z
RRULE:FREQ=YEARLY;BYMONTH=3;BYDAY=-1SU
END:DAYLIGHT
BEGIN:STANDARD
TZOFFSETFROM:+0100
TZOFFSETTO:+0000
TZNAME:GMT
DTSTART:20211031T020000Z
RRULE:FREQ=YEARLY;BYMONTH=10;BYDAY=-1SU
END:STANDARD
END:VTIMEZONE
BEGIN:VTIMEZONE
TZID:Europe/London
TZURL:http://tzurl.org/zoneinfo/Europe/London
X-LIC-LOCATION:Europe/London
BEGIN:DAYLIGHT
TZOFFSETFROM:+0000
TZOFFSETTO:+0100
TZNAME:BST
DTSTART:20190331T020000Z
RRULE:FREQ=YEARLY;BYMONTH=3;BYDAY=-1SU
END:DAYLIGHT
BEGIN:STANDARD
TZOFFSETFROM:+0100
TZOFFSETTO:+0000
TZNAME:GMT
DTSTART:20191027T020000Z
RRULE:FREQ=YEARLY;BYMONTH=10;BYDAY=-1SU
END:STANDARD
END:VTIMEZONE
BEGIN:VTIMEZONE
TZID:Europe/London
TZURL:http://tzurl.org/zoneinfo/Europe/London
X-LIC-LOCATION:Europe/London
BEGIN:DAYLIGHT
TZOFFSETFROM:+0000
TZOFFSETTO:+0100
TZNAME:BST
DTSTART:20180325T020000Z
RRULE:FREQ=YEARLY;BYMONTH=3;BYDAY=-1SU
END:DAYLIGHT
BEGIN:STANDARD
TZOFFSETFROM:+0100
TZOFFSETTO:+0000
TZNAME:GMT
DTSTART:20181028T020000Z
RRULE:FREQ=YEARLY;BYMONTH=10;BYDAY=-1SU
END:STANDARD
END:VTIMEZONE
BEGIN:VTIMEZONE
TZID:Europe/London
TZURL:http://tzurl.org/zoneinfo/Europe/London
X-LIC-LOCATION:Europe/London
BEGIN:DAYLIGHT
TZOFFSETFROM:+0000
TZOFFSETTO:+0100
TZNAME:BST
DTSTART:20170326T020000Z
RRULE:FREQ=YEARLY;BYMONTH=3;BYDAY=-1SU
END:DAYLIGHT
BEGIN:STANDARD
TZOFFSETFROM:+0100
TZOFFSETTO:+0000
TZNAME:GMT
DTSTART:20171029T020000Z
RRULE:FREQ=YEARLY;BYMONTH=10;BYDAY=-1SU
END:STANDARD
END:VTIMEZONE
BEGIN:VEVENT
SUMMARY:CMP Pets Day
DTSTAMP:20240522T230049Z
SEQUENCE:0
UID:446-1-1536b3ea569b7c95098fff41bd194ecf@cmp-gaming.com
ORGANIZER;CN="RAnDOOm":contact@cmp-gaming.com
DESCRIPTION:\n	\n\n	This is the Official CMP Pets Day\n\n	\n\n	\n\n\n\n	
	Post a picture of your Pet on our Discord Server\n\n	\n\n	In case you have
	 missed it\, we invite you to join our Discord Server in the link below:\n
	\n	https://discord.com/invite/PvgjnsCDV8\n\n	Thank You\n\n	😻🐶\n\n
DTSTART:20240521T230000Z
DTEND:20240522T225900Z
RRULE:FREQ=YEARLY;INTERVAL=1
END:VEVENT
BEGIN:VEVENT
SUMMARY:CMP's Birthday!
DTSTAMP:20190209T132202Z
SEQUENCE:0
UID:105-1-1536b3ea569b7c95098fff41bd194ecf@cmp-gaming.com
ORGANIZER;CN="Quicksilver":contact@cmp-gaming.com
DESCRIPTION:\n	It's the CMP Community's Official Birthday today!\n\n\n\n
		\n\n\n				\n			\n		\n				 \n			\n		
DTSTART;VALUE=DATE:20200408
RRULE:FREQ=YEARLY;INTERVAL=1
END:VEVENT
BEGIN:VEVENT
SUMMARY:Merry Christmas\, Happy Holidays And A Happy New Year From C
	MP!
DTSTAMP:20201223T171219Z
SEQUENCE:0
UID:263-1-1536b3ea569b7c95098fff41bd194ecf@cmp-gaming.com
ORGANIZER;CN="RAnDOOm":contact@cmp-gaming.com
DESCRIPTION:\n				\n					\n				\n\n				\n					https://cmp-gaming.com/top
	ic/3338-merry-christmas-happy-holidays-and-a-happy-new-year-from-cmp/\n			
		\n			\n		
DTSTART:20201223T000000Z
DTEND:20210103T230000Z
END:VEVENT
BEGIN:VEVENT
SUMMARY:Post Scriptum Free Weekend Public Play
DTSTAMP:20200107T150820Z
SEQUENCE:0
UID:198-1-1536b3ea569b7c95098fff41bd194ecf@cmp-gaming.com
ORGANIZER;CN="Hawk":contact@cmp-gaming.com
DESCRIPTION:\n	http://postscriptumgame.com/pj-free-weekend/\n\n\n\n	In t
	he light of the 1940 France release on the 9th of January\, Post Scriptum 
	is having a free weekend at steam. CMP is inviting you to hop on the TS at
	 Battle Time™ (19:00 UTC) on Friday\, January 10th and join us. If you h
	avent got the game yet\, here's your chance to test it! We will provide Sq
	uadleaders and a experience of the game how its meant to be played!\n
DTSTART:20200110T190000Z
DTEND:20200110T225900Z
END:VEVENT
BEGIN:VEVENT
SUMMARY:CMP DIRT Rally German Special Stage Ends
DTSTAMP:20191020T170319Z
SEQUENCE:0
UID:191-1-1536b3ea569b7c95098fff41bd194ecf@cmp-gaming.com
ORGANIZER;CN="Quicksilver":contact@cmp-gaming.com
DESCRIPTION:\n	\n\n\n	\nCMP Dirt Rally League Season 5\nGerman Event\n03
	/05/2020 23:30 - 31/05/2020 22:30\n\nStages\nGermany\, Hammerstein (L)\n\n
	Sign up at https://www.dirtgame.com/leagues/league/155341/cmp-dirt-rally\n
DTSTART;VALUE=DATE:20200531
END:VEVENT
BEGIN:VEVENT
SUMMARY:CMP DIRT Rally German Special Stage Starts
DTSTAMP:20191020T165937Z
SEQUENCE:0
UID:190-1-1536b3ea569b7c95098fff41bd194ecf@cmp-gaming.com
ORGANIZER;CN="Quicksilver":contact@cmp-gaming.com
DESCRIPTION:\n	\n\n\n	\nCMP Dirt Rally League Season 5\nGerman Event\n03
	/05/2020 23:30 - 31/05/2020 22:30\n\nStages\nGermany\, Hammerstein (L)\n\n
	Sign up at https://www.dirtgame.com/leagues/league/155341/cmp-dirt-rally\n
DTSTART;VALUE=DATE:20200504
END:VEVENT
BEGIN:VEVENT
SUMMARY:CMP DIRT Rally Greek Special Stage Ends
DTSTAMP:20191020T165742Z
SEQUENCE:0
UID:189-1-1536b3ea569b7c95098fff41bd194ecf@cmp-gaming.com
ORGANIZER;CN="Quicksilver":contact@cmp-gaming.com
DESCRIPTION:\n	\n\n\n	\nCMP Dirt Rally League Season 5\nGreek Special Ev
	ent\n06/04/2020 23:30 - 03/05/2020 22:30\n\nStages\nGreece\, Tsiristra Th
	éa (L)\n\nSign up at https://www.dirtgame.com/leagues/league/155341/cmp-d
	irt-rally\n
DTSTART;VALUE=DATE:20200503
END:VEVENT
BEGIN:VEVENT
SUMMARY:CMP DIRT Rally Pike's Peak Stage Ends
DTSTAMP:20191020T165620Z
SEQUENCE:0
UID:188-1-1536b3ea569b7c95098fff41bd194ecf@cmp-gaming.com
ORGANIZER;CN="Quicksilver":contact@cmp-gaming.com
DESCRIPTION:\n	\n\n\n	\nCMP Dirt Rally League Season 5\nPike's Peak Even
	t\n09/03/2020 00:30 - 05/04/2020 22:30\n\nStages\nUSA\, Pikes Peak - Secto
	r 1 (S)\n\n	USA\, Pikes Peak - Sector 2 (S)\n\n	USA\, Pikes Peak - Sector 
	3 (S)\n\nSign up at https://www.dirtgame.com/leagues/league/155341/cmp-dir
	t-rally\n
DTSTART;VALUE=DATE:20200405
END:VEVENT
BEGIN:VEVENT
SUMMARY:CMP DIRT Rally Greek Special Stage Starts
DTSTAMP:20191020T165326Z
SEQUENCE:0
UID:187-1-1536b3ea569b7c95098fff41bd194ecf@cmp-gaming.com
ORGANIZER;CN="Quicksilver":contact@cmp-gaming.com
DESCRIPTION:\n	\n\n\n	\nCMP Dirt Rally League Season 5\nGreek Special Ev
	ent\n06/04/2020 23:30 - 03/05/2020 22:30\n\nStages\nGreece\, Tsiristra Th
	éa (L)\n\nSign up at https://www.dirtgame.com/leagues/league/155341/cmp-d
	irt-rally\n
DTSTART;VALUE=DATE:20200406
END:VEVENT
BEGIN:VEVENT
SUMMARY:CMP DIRT Rally Pike's Peak Stage Starts
DTSTAMP:20191020T165048Z
SEQUENCE:0
UID:186-1-1536b3ea569b7c95098fff41bd194ecf@cmp-gaming.com
ORGANIZER;CN="Quicksilver":contact@cmp-gaming.com
DESCRIPTION:\n	\n\n\n	\nCMP Dirt Rally League Season 5\nPike's Peak Even
	t\n09/03/2020 00:30 - 05/04/2020 22:30\n\nStages\nUSA\, Pikes Peak - Secto
	r 1 (S)\n\n	USA\, Pikes Peak - Sector 2 (S)\n\n	USA\, Pikes Peak - Sector 
	3 (S)\n\nSign up at https://www.dirtgame.com/leagues/league/155341/cmp-dir
	t-rally\n
DTSTART;VALUE=DATE:20200309
END:VEVENT
BEGIN:VEVENT
SUMMARY:CMP DIRT Rally Sweden Stage Ends
DTSTAMP:20191020T164856Z
SEQUENCE:0
UID:185-1-1536b3ea569b7c95098fff41bd194ecf@cmp-gaming.com
ORGANIZER;CN="Quicksilver":contact@cmp-gaming.com
DESCRIPTION:\n	\n\n\n	\nCMP Dirt Rally League Season 5\nSweden Event\n10
	/02/2020 00:30 - 08/03/2020 23:30\n\nStages\nSweden\, Älgsjön Sprint (
	S)    \n\n	Sweden\, Stor-jangen Sprint Reverse (S)    \n\n	Sweden\,
	 Björklangen (S)\n\nSign up at https://www.dirtgame.com/leagues/league/15
	5341/cmp-dirt-rally\n
DTSTART;VALUE=DATE:20200308
END:VEVENT
BEGIN:VEVENT
SUMMARY:CMP DIRT Rally Sweden Stage Starts
DTSTAMP:20191020T164806Z
SEQUENCE:0
UID:184-1-1536b3ea569b7c95098fff41bd194ecf@cmp-gaming.com
ORGANIZER;CN="Quicksilver":contact@cmp-gaming.com
DESCRIPTION:\n	\n\n\n	\nCMP Dirt Rally League Season 5\nSweden Event\n10
	/02/2020 00:30 - 08/03/2020 23:30\n\nStages\nSweden\, Älgsjön Sprint (
	S)    \n\n	Sweden\, Stor-jangen Sprint Reverse (S)    \n\n	Sweden\,
	 Björklangen (S)\n\nSign up at https://www.dirtgame.com/leagues/league/15
	5341/cmp-dirt-rally\n
DTSTART;VALUE=DATE:20200210
END:VEVENT
BEGIN:VEVENT
SUMMARY:CMP DIRT Rally Monaco Stage Ends
DTSTAMP:20191020T164604Z
SEQUENCE:0
UID:183-1-1536b3ea569b7c95098fff41bd194ecf@cmp-gaming.com
ORGANIZER;CN="Quicksilver":contact@cmp-gaming.com
DESCRIPTION:\n	\n\n\n	\nCMP Dirt Rally League Season 5\nMonaco Event\n13
	/01/2020 00:30 - 09/02/2020 23:30\n\nStages\nMonaco\, Col de Turini sprint
	 en Montée (S)\n\n	Monaco\, Route de Turini Montée (S)    \n\n	Monaco
	\, Approche du Col de Turini - Montée (S)\n\nSign up at https://www.dirtg
	ame.com/leagues/league/155341/cmp-dirt-rally\n
DTSTART;VALUE=DATE:20200209
END:VEVENT
BEGIN:VEVENT
SUMMARY:CMP DIRT Rally Monaco Stage Starts
DTSTAMP:20191020T164509Z
SEQUENCE:0
UID:182-1-1536b3ea569b7c95098fff41bd194ecf@cmp-gaming.com
ORGANIZER;CN="Quicksilver":contact@cmp-gaming.com
DESCRIPTION:\n	\n\n\n	\nCMP Dirt Rally League Season 5\nMonaco Event\n13
	/01/2020 00:30 - 09/02/2020 23:30\n\nStages\nMonaco\, Col de Turini sprint
	 en Montée (S)\n\n	Monaco\, Route de Turini Montée (S)    \n\n	Monaco
	\, Approche du Col de Turini - Montée (S)\n\nSign up at https://www.dirtg
	ame.com/leagues/league/155341/cmp-dirt-rally\n
DTSTART;VALUE=DATE:20200113
END:VEVENT
BEGIN:VEVENT
SUMMARY:CMP DIRT Rally Finnish Stage Ends
DTSTAMP:20191020T164241Z
SEQUENCE:0
UID:181-1-1536b3ea569b7c95098fff41bd194ecf@cmp-gaming.com
ORGANIZER;CN="Quicksilver":contact@cmp-gaming.com
DESCRIPTION:\n	\n\n\n	\nCMP Dirt Rally League Season 5\nFinnish Event\n1
	6/12/2019 00:30 - 12/01/2020 23:30\n\nStages\nFinland\, Kailajärvi (S)\n\
	n	Finland\, Iso Oksjärvi (S)    \n\n	Finland\, Järvenkylä (S)\n\nSig
	n up at https://www.dirtgame.com/leagues/league/155341/cmp-dirt-rally\n
DTSTART;VALUE=DATE:20200112
END:VEVENT
BEGIN:VEVENT
SUMMARY:CMP DIRT Rally Finnish Stage Starts
DTSTAMP:20191020T164112Z
SEQUENCE:0
UID:180-1-1536b3ea569b7c95098fff41bd194ecf@cmp-gaming.com
ORGANIZER;CN="Quicksilver":contact@cmp-gaming.com
DESCRIPTION:\n	\n\n\n	\nCMP Dirt Rally League Season 5\nFinnish Event\n1
	6/12/2019 00:30 - 12/01/2020 23:30\n\nStages\nFinland\, Kailajärvi (S)\n\
	n	Finland\, Iso Oksjärvi (S)    \n\n	Finland\, Järvenkylä (S)\n\nSig
	n up at https://www.dirtgame.com/leagues/league/155341/cmp-dirt-rally\n
DTSTART;VALUE=DATE:20191216
END:VEVENT
BEGIN:VEVENT
SUMMARY:CMP DIRT Rally German Stage Ends
DTSTAMP:20191020T163822Z
SEQUENCE:0
UID:179-1-1536b3ea569b7c95098fff41bd194ecf@cmp-gaming.com
ORGANIZER;CN="Quicksilver":contact@cmp-gaming.com
DESCRIPTION:\n	\n\n\n	\nCMP Dirt Rally League Season 5\nGerman Event\n18
	/11/2019 00:30 - 15/12/2019 23:30 \n\nStages\nGermany\, Waldaufstieg (S)\n
	\n	Germany\, Kreuzungsring Reverse (S)    \n\n	Germany\, Flugzeugring (
	S)\n\nSign up at https://www.dirtgame.com/leagues/league/155341/cmp-dirt-r
	ally\n
DTSTART;VALUE=DATE:20191215
END:VEVENT
BEGIN:VEVENT
SUMMARY:CMP DIRT Rally German Stage Starts
DTSTAMP:20191020T163721Z
SEQUENCE:0
UID:178-1-1536b3ea569b7c95098fff41bd194ecf@cmp-gaming.com
ORGANIZER;CN="Quicksilver":contact@cmp-gaming.com
DESCRIPTION:\n	\n\n\n	\nCMP Dirt Rally League Season 5\nGerman Event\n18
	/11/2019 00:30 - 15/12/2019 23:30 \n\nStages\nGermany\, Waldaufstieg (S)\n
	\n	Germany\, Kreuzungsring Reverse (S)    \n\n	Germany\, Flugzeugring (
	S)\n\nSign up at https://www.dirtgame.com/leagues/league/155341/cmp-dirt-r
	ally\n
DTSTART;VALUE=DATE:20191118
END:VEVENT
BEGIN:VEVENT
SUMMARY:CMP DIRT Rally Greek Stage Starts
DTSTAMP:20191020T162359Z
SEQUENCE:0
UID:176-1-1536b3ea569b7c95098fff41bd194ecf@cmp-gaming.com
ORGANIZER;CN="Quicksilver":contact@cmp-gaming.com
DESCRIPTION:\n	\n\n\n	\nCMP Dirt Rally League Season 5\nGreek Event\n20/
	10/2019 23:30 - 17/11/2019 23:30 \n\nStages\nGreece\, Pomona Ékrixi (S)\n
	\n	Greece\, Ampelonas Ormi (S)\n\n	Greece\, Koryfi Dafni (S)\n\nSign up at
	 https://www.dirtgame.com/leagues/league/155341/cmp-dirt-rally\n
DTSTART;VALUE=DATE:20191021
END:VEVENT
BEGIN:VEVENT
SUMMARY:CMP DIRT Rally Greek Stage Ends
DTSTAMP:20191020T162634Z
SEQUENCE:0
UID:177-1-1536b3ea569b7c95098fff41bd194ecf@cmp-gaming.com
ORGANIZER;CN="Quicksilver":contact@cmp-gaming.com
DESCRIPTION:\n	\n\n\n	\nCMP Dirt Rally League Season 5\nGreek Event\n20/
	10/2019 23:30 - 17/11/2019 23:30 \n\nStages\nGreece\, Pomona Ékrixi (S)\n
	\n	Greece\, Ampelonas Ormi (S)\n\n	Greece\, Koryfi Dafni (S)\n\nSign up at
	 https://www.dirtgame.com/leagues/league/155341/cmp-dirt-rally\n
DTSTART;VALUE=DATE:20191117
END:VEVENT
BEGIN:VEVENT
SUMMARY:Final Day Dirt Rally Wales Stage
DTSTAMP:20190413T160513Z
SEQUENCE:0
UID:118-1-1536b3ea569b7c95098fff41bd194ecf@cmp-gaming.com
ORGANIZER;CN="Quicksilver":contact@cmp-gaming.com
DESCRIPTION:\n	Last day to compete in the Welsh stage of the CMP Dirt Ra
	lly Cup\n\n\n\n	Join the Dirt Rally League at https://www.dirtgame.com/lea
	gues/league/155341/cmp-dirt-rally\n
DTSTART;VALUE=DATE:20190515
END:VEVENT
BEGIN:VEVENT
SUMMARY:Final Day Dirt Rally Sweden Stage
DTSTAMP:20190413T160633Z
SEQUENCE:0
UID:119-1-1536b3ea569b7c95098fff41bd194ecf@cmp-gaming.com
ORGANIZER;CN="Quicksilver":contact@cmp-gaming.com
DESCRIPTION:\n	Last day to compete in the Swedish stage of the CMP Dirt 
	Rally Cup\n\n\n\n	Join the Dirt Rally League at https://www.dirtgame.com/l
	eagues/league/155341/cmp-dirt-rally\n
DTSTART;VALUE=DATE:20190607
END:VEVENT
BEGIN:VEVENT
SUMMARY:Final Day Dirt Rally Monaco Stage
DTSTAMP:20190413T160351Z
SEQUENCE:0
UID:117-1-1536b3ea569b7c95098fff41bd194ecf@cmp-gaming.com
ORGANIZER;CN="Quicksilver":contact@cmp-gaming.com
DESCRIPTION:\n	Last day to compete in the Monaco stage of the CMP Dirt R
	ally Cup\n\n\n\n	Join the Dirt Rally League at https://www.dirtgame.com/le
	agues/league/155341/cmp-dirt-rally\n
DTSTART;VALUE=DATE:20190422
END:VEVENT
BEGIN:VEVENT
SUMMARY:Forgotten Hope 2 Gamenight FHGN 23
DTSTAMP:20190220T091237Z
SEQUENCE:0
UID:111-1-1536b3ea569b7c95098fff41bd194ecf@cmp-gaming.com
ORGANIZER;CN="kummitus":contact@cmp-gaming.com
DESCRIPTION:\n	http://fhpubforum.warumdarum.de/index.php?topic=21914.0\n
	\nFH Game Night 23Hi there and welcome back!The votes are in and the 5 map
	s we are going to play in our 23rd Game Night will be as follows:Pegasus 3
	2Ihantala 32Seelow 32Ogledow 32Lenino 32Time and date:23rd of February 201
	9 - 18:00 UTCHuge thanks goes to our server providers at https://cmp-gami
	ng.com/ for lending us a playground for this event. Hope to see YOU ther
	e!\n
DTSTART:20190223T180000Z
DTEND:20190223T215900Z
END:VEVENT
BEGIN:VEVENT
SUMMARY:Post Scriptum Public Test Event
DTSTAMP:20180526T095249Z
SEQUENCE:0
UID:62-1-1536b3ea569b7c95098fff41bd194ecf@cmp-gaming.com
ORGANIZER;CN="Quicksilver":contact@cmp-gaming.com
DESCRIPTION:\n	Post Scriptum has now been launched for public testing an
	d we will be running a CMP server for this period!\n\n\n\n	There will be a
	 Post Scriptum event tonight (26th May) at 18:00UTC on the CMP server\, pl
	ease come and join us on Teamspeak if you have pre-ordered the game and no
	w have public test access!\n\n\n\n	You can still pre-order the game and ge
	t access to public testing. You only need the basic package of the game fo
	r this - https://store.steampowered.com/app/736220/Post_Scriptum/\n\n\n\n	
	 \n\n\n\n	\n		\n	\n\n\n\n	 \n
DTSTART:20180526T180000Z
DTEND:20180526T210000Z
END:VEVENT
BEGIN:VEVENT
SUMMARY:Battlefield Pirates 2 Event - Friday 29 December 19h GMT
DTSTAMP:20171227T140316Z
SEQUENCE:0
UID:42-1-1536b3ea569b7c95098fff41bd194ecf@cmp-gaming.com
ORGANIZER;CN="RAnDOOm":contact@cmp-gaming.com
DESCRIPTION:\n	\n\n\n	Battlefield Pirates 2 Event 26-12-2017 @ 19h GMT\n
	Hardy harr to all pirates\, marauders\, and swashbucklers as well as to al
	l ye landlubbers out there! Meet Battlefield Pirates 2\, a full conversion
	 modification of Battlefield 2 featuring big ships\, big guns\, and big ha
	ts!\n\n	BFP2 offers a truly fantastic and thrilling experiences that no ot
	her mod rival\, an exciting theme set in the lush environments of the Carr
	ibean\, as well as guns\, ships\, cannons for everyone's taste! With that 
	said\, pick up your musket\, board that runabout\, and prepare to assault 
	that island in a mod that's made all that possible. \n\n\n\n	What is neede
	d:\n\n\n\n		Download and install the mod here: http://fh2.cmp-gaming.com/p
	irates/BFP2_R2.1_Client_Full.exe \n	\n	\n		Go to the BFP2 shortcut created
	 in the desktop. Click properties and change the text BF2.exe with Forgott
	enHope2.exe\n\n		3. Start the game using the BFP2 shortcut.\n	\n	\n		Go to
	 Options and change the terrain to low\n	\n	\n		 Connect IP -  fh2.cmp-g
	aming.com:16571 \n	\n	\n		Have fun!  \n\n		 \n	\n\n				\n					\n						\n
						\n				\n			\n		\n	\nCome and have fun together witb all the players a
	nd join us on TeamSpeak!\n
DTSTART:20171229T190000Z
DTEND:20171229T000000Z
END:VEVENT
BEGIN:VEVENT
SUMMARY:Star Citizen Missions In 3.0
DTSTAMP:20171226T114321Z
SEQUENCE:0
UID:41-1-1536b3ea569b7c95098fff41bd194ecf@cmp-gaming.com
ORGANIZER;CN="Quicksilver":contact@cmp-gaming.com
DESCRIPTION:\n	\n\n\n\n	 \n\n\n\n	Star Citizen Event Friday 29nd Decemb
	er @ 19:30 GMT\n\n\n\n	Come and join us as we explore the Crusader system 
	in Alpha 3.0\n\n\n\n	We'll be  taking on missions in the sandbox Universe
	 including exploration\, rescue and trading.\n\n\n\n	 \n\n\n\n	Come and j
	oin us if you have the game! \n\n	You'll need the latest version of the St
	ar Citizen which is 3.0\n
DTSTART:20171229T193000Z
DTEND:20171229T223000Z
END:VEVENT
BEGIN:VEVENT
SUMMARY:Star Citizen Flight And Combat Basics Part 2
DTSTAMP:20171218T105420Z
SEQUENCE:0
UID:40-1-1536b3ea569b7c95098fff41bd194ecf@cmp-gaming.com
ORGANIZER;CN="Quicksilver":contact@cmp-gaming.com
DESCRIPTION:\n	Come and learn about the basics of flight\, combat and FP
	S in Star Citizen.\n\n\n\n\n	 \n
DTSTART:20171222T193000Z
DTEND:20171222T142300Z
END:VEVENT
BEGIN:VEVENT
SUMMARY:Star Citizen Flight And Combat Basics
DTSTAMP:20171211T132351Z
SEQUENCE:0
UID:38-1-1536b3ea569b7c95098fff41bd194ecf@cmp-gaming.com
ORGANIZER;CN="Quicksilver":contact@cmp-gaming.com
DESCRIPTION:\n	Come and learn about the basics of flight\, combat and FP
	S in Star Citizen.\n\n\n\n\n	 \n
DTSTART:20171215T193000Z
DTEND:20171215T220000Z
END:VEVENT
BEGIN:VEVENT
SUMMARY:FH2 Campaign #2: Battle #10 - Westwall (Finale)
DTSTAMP:20171207T142921Z
SEQUENCE:0
UID:37-1-1536b3ea569b7c95098fff41bd194ecf@cmp-gaming.com
ORGANIZER;CN="Hawk":contact@cmp-gaming.com
DESCRIPTION:\n\n	 \n\n\n\n	 \n
DTSTART:20171208T190000Z
DTEND:20171208T225900Z
END:VEVENT
BEGIN:VEVENT
SUMMARY:FH2 Campaign #2: Battle #9 - Siegfried Line
DTSTAMP:20171130T155522Z
SEQUENCE:0
UID:36-1-1536b3ea569b7c95098fff41bd194ecf@cmp-gaming.com
ORGANIZER;CN="Hawk":contact@cmp-gaming.com
DESCRIPTION:\n\n	 \n
DTSTART:20171201T190000Z
DTEND:20171201T225900Z
END:VEVENT
BEGIN:VEVENT
SUMMARY:FH2 Campaign #2: Battle #7 - Hill 262
DTSTAMP:20171115T082056Z
SEQUENCE:0
UID:35-1-1536b3ea569b7c95098fff41bd194ecf@cmp-gaming.com
ORGANIZER;CN="Hawk":contact@cmp-gaming.com
DESCRIPTION:\n\n	 \n
DTSTART:20171117T190000Z
DTEND:20171117T225900Z
END:VEVENT
BEGIN:VEVENT
SUMMARY:FH2 Campaign #2: Battle #6 - Meuse River
DTSTAMP:20171106T163710Z
SEQUENCE:0
UID:34-1-1536b3ea569b7c95098fff41bd194ecf@cmp-gaming.com
ORGANIZER;CN="Hawk":contact@cmp-gaming.com
DESCRIPTION:\n\n	 \n
DTSTART:20171110T190000Z
DTEND:20171110T225900Z
END:VEVENT
BEGIN:VEVENT
SUMMARY:FH2 Campaign #2: Battle #4 - Stoumont
DTSTAMP:20171025T010848Z
SEQUENCE:0
UID:33-1-1536b3ea569b7c95098fff41bd194ecf@cmp-gaming.com
ORGANIZER;CN="Hawk":contact@cmp-gaming.com
DESCRIPTION:\n\n	 \n
DTSTART:20171027T180000Z
DTEND:20171027T215900Z
END:VEVENT
BEGIN:VEVENT
SUMMARY:FH2 Campaign #2: Battle #3 - Juin 44
DTSTAMP:20171015T212601Z
SEQUENCE:0
UID:32-1-1536b3ea569b7c95098fff41bd194ecf@cmp-gaming.com
ORGANIZER;CN="Hawk":contact@cmp-gaming.com
DESCRIPTION:\n\n	 \n
DTSTART:20171020T180000Z
DTEND:20171020T215900Z
END:VEVENT
BEGIN:VEVENT
SUMMARY:FH2 Campaign #2: Battle #2 - Bloody Gulch
DTSTAMP:20171011T075937Z
SEQUENCE:0
UID:30-1-1536b3ea569b7c95098fff41bd194ecf@cmp-gaming.com
ORGANIZER;CN="Hawk":contact@cmp-gaming.com
DESCRIPTION:\n	 \n\n\n\n\n	 \n
DTSTART:20171013T180000Z
DTEND:20171013T215900Z
END:VEVENT
BEGIN:VEVENT
SUMMARY:FH2 Campaign #2: Battle #1 - Ortona
DTSTAMP:20171002T135407Z
SEQUENCE:0
UID:28-1-1536b3ea569b7c95098fff41bd194ecf@cmp-gaming.com
ORGANIZER;CN="Hawk":contact@cmp-gaming.com
DESCRIPTION:\n\n	 \n
DTSTART:20171006T180000Z
DTEND:20171006T215900Z
END:VEVENT
BEGIN:VEVENT
SUMMARY:CMP FH2 #2: Scrimmage
DTSTAMP:20170925T180342Z
SEQUENCE:0
UID:26-1-1536b3ea569b7c95098fff41bd194ecf@cmp-gaming.com
ORGANIZER;CN="Hawk":contact@cmp-gaming.com
DESCRIPTION:\n	This coming Friday\, 18 UTC\, we are going to play warm-u
	p matches on a couple of battle maps (1 round each on 3-4 maps).\n\n\n	Scr
	immages don't count into the score of the campaign and are also usually no
	t very planned and coordinated by both HQ's\, they are however a welcome c
	hance for the members of both divisions to get to know each other\, solve 
	any technical difficulties that would be hard to first solve during battle
	 nights and test their squad/group/regiment abilities and capabilities und
	er battle-like conditions.\n\n\n\n\n	 \n
DTSTART:20170929T180000Z
DTEND:20170929T215900Z
END:VEVENT
BEGIN:VEVENT
SUMMARY:Meeting
DTSTAMP:20170325T110451Z
SEQUENCE:0
UID:4-1-1536b3ea569b7c95098fff41bd194ecf@cmp-gaming.com
ORGANIZER;CN="kummitus":contact@cmp-gaming.com
DESCRIPTION:\n\n	Weekly Management meeting //update: Weekly meetings on 
	hold until needed again\n\n\n\n	1st version of the maps: https://fh2.cmp-
	gaming.com/CMPT_Beta/cmpt_02.zip\n\n
DTSTART:20170911T190000Z
DTEND:20170911T200000Z
END:VEVENT
BEGIN:VEVENT
SUMMARY:FH2 Capture the Flag Event
DTSTAMP:20170711T140430Z
SEQUENCE:0
UID:24-1-1536b3ea569b7c95098fff41bd194ecf@cmp-gaming.com
ORGANIZER;CN="RAnDOOm":contact@cmp-gaming.com
DESCRIPTION:\n	\n\n\n	Join us this Friday\, 14th July at 18hUTC \, for t
	he very first Capture the Flag event for Forgotten Hope 2 \n\n\n\n	What is
	 Capture the Flag ( CTF ) ?\n\n\n\n	The objective of the game is to captur
	e the opposing team's flag while defending one's own. This can be done by 
	getting in to where the flag is located in the enemy base\, taking it\, an
	d returning it to the player's base alive. This task is usually much easie
	r said than done\, as the opposing team's base is usually heavily defended
	 and players are alerted once a flag is taken from its base\, causing the 
	team whose flag was stolen to frantically try to get it back at any cost. 
	\n\n\n\n	Unlike Conquest\, Capture the Flag has infinite tickets for each 
	team\,  but flag captures count downwards. Once the enemy team captures yo
	ur flag e.g. 10 times\, it wins the round.\n\n\n\n	Flags can be held while
	 on any vehicle as well\, regardless if it is piloted on land\, sea or air
	. It also does not matter whether the flag-carrier is on the driver or pas
	senger seat of the vehicle as well. This allows for much faster delivering
	 of flags to other bases due to the large nature of the maps playable in t
	he game mode. \n\n\n\n	Report any bugs / issues you might find\n\n\n\n	Sin
	ce this is a work in progress mod some bugs and issues will occur. Please 
	report if you find or encounter something out of the ordinary.\n\n\n\n	Wit
	h your help we can fine tune the mod quicker and more efficiently.\n\n\n\n
		Where to download ?\n\n\n\n	Download links and server ip/name will be pro
	vided during this week in this thread.\n\n\n\n	 \n
DTSTART:20170714T170000Z
DTEND:20170714T220000Z
RRULE:FREQ=WEEKLY;INTERVAL=1;COUNT=3;BYDAY=FR
END:VEVENT
BEGIN:VEVENT
SUMMARY:CMP FH2 #1: Battle #7 - Metz
DTSTAMP:20170620T093147Z
SEQUENCE:0
UID:23-1-1536b3ea569b7c95098fff41bd194ecf@cmp-gaming.com
ORGANIZER;CN="Hawk":contact@cmp-gaming.com
DESCRIPTION:\n\n	 \n
DTSTART:20170623T180000Z
DTEND:20170623T215900Z
END:VEVENT
BEGIN:VEVENT
SUMMARY:CMP FH2 #1: Battle #6 - Operation Greif
DTSTAMP:20170612T145900Z
SEQUENCE:0
UID:22-1-1536b3ea569b7c95098fff41bd194ecf@cmp-gaming.com
ORGANIZER;CN="Hawk":contact@cmp-gaming.com
DESCRIPTION:\n\n	 \n
DTSTART:20170616T180000Z
DTEND:20170616T215900Z
END:VEVENT
BEGIN:VEVENT
SUMMARY:CMP FH2 #1: Battle #5 - Argentan
DTSTAMP:20170603T234950Z
SEQUENCE:0
UID:21-1-1536b3ea569b7c95098fff41bd194ecf@cmp-gaming.com
ORGANIZER;CN="Hawk":contact@cmp-gaming.com
DESCRIPTION:\n\n	 \n
DTSTART:20170609T180000Z
DTEND:20170609T215900Z
END:VEVENT
BEGIN:VEVENT
SUMMARY:CMP FH2 #1: Battle #4 - Operation Nordwind
DTSTAMP:20170529T225400Z
SEQUENCE:0
UID:20-1-1536b3ea569b7c95098fff41bd194ecf@cmp-gaming.com
ORGANIZER;CN="Hawk":contact@cmp-gaming.com
DESCRIPTION:\n\n	 \n
DTSTART:20170602T180000Z
DTEND:20170602T215900Z
END:VEVENT
BEGIN:VEVENT
SUMMARY:FH2 - A new Dawn - Battle #3 - Hill  262
DTSTAMP:20170522T061420Z
SEQUENCE:0
UID:19-1-1536b3ea569b7c95098fff41bd194ecf@cmp-gaming.com
ORGANIZER;CN="Papillon":contact@cmp-gaming.com
DESCRIPTION:\n	 \n\n\n\n\n	 \n
DTSTART:20170526T180000Z
DTEND:20170526T215900Z
END:VEVENT
BEGIN:VEVENT
SUMMARY:FH2 - A NEW DAWN - BATTLE #2- GELA
DTSTAMP:20170515T123745Z
SEQUENCE:0
UID:18-1-1536b3ea569b7c95098fff41bd194ecf@cmp-gaming.com
ORGANIZER;CN="Papillon":contact@cmp-gaming.com
DESCRIPTION:\n	CMP-Gaming\n\n\n\n	FH2 Campaign #1: A New Dawn\n\n\n\n	 
	\n\n\n\n	Battle #2: Gela\n\n\n\n	You can download the Forgotten Hope 2 Com
	munity Updater at\n\n\n\n	https://fh2.cmp-gaming.com/updater/FH2CommunityU
	pdaterSetup.exe\n\n\n\n	 \n\n\n\n	Or download manually\n\n\n\n	Download M
	ap (if you don't already have it) and unzip to bf2/mods \nDownload CMP Cam
	paign Pack (if you don't already have it) and unzip to bf2/mods \n\n\n\n	
	 \n\n\n\n	\n\n\n	The amphibious Battle of Gela was the opening engagement
	 of the \n\n\n\n	Allied Invasion of Sicily along the eastern end of the so
	uth coast of Sicily.\n\n\n\n	 \n\n\n\n	Details:\n\n\n\n	Date: Friday May 
	19th\, 19 UTC\nLength: 4 Hours+\nServer Password: sicily\n\n\n\n	 \n\n\n\
	n	Server:\n\n\n\n	CMP - FH2 Battle Server  IP: 46.4.103.145:16567\n\n\n\n
		 \n\n\n\n	Time:\n\n\n\n	Time (GMT): 19:00 till 23:00\nTime Zone Converte
	r (w/automatic DST converter)\n\n\n\n	\nBattle #2: Gela\nCreated by: Paask
	y for WaW\, adapted by Papillon\n\n\n\n	 \n\n\n\n	Requirements To Play:\n
	\n\n\n		Map: Download Map if you don't already have it and unzip to bf2/mo
	ds \n	\n	\n		Working Forgotten Hope 2.52 for Battlefield 2 with latest BF2
	 update (v1.5)\n	\n	\n		Latest Campaign Pack: Download if you don't alread
	y have it and unzip to bf2/mods \n	\n\n	 \n\n\n\n	FH2 Admins:\n\n\n\n		Pa
	pillon\n	\n	\n		Quicksilver\n	\n
DTSTART:20170519T180000Z
DTEND:20170519T215900Z
END:VEVENT
BEGIN:VEVENT
SUMMARY:CMP FH2 #1: Battle #1 - Faid Pass
DTSTAMP:20170508T164613Z
SEQUENCE:0
UID:17-1-1536b3ea569b7c95098fff41bd194ecf@cmp-gaming.com
ORGANIZER;CN="Hawk":contact@cmp-gaming.com
DESCRIPTION:\n\n	 \n
DTSTART:20170512T180000Z
DTEND:20170512T215900Z
END:VEVENT
BEGIN:VEVENT
SUMMARY:CMP FH2 #1: Scrim #1 - Juin 44
DTSTAMP:20170503T200216Z
SEQUENCE:0
UID:15-1-1536b3ea569b7c95098fff41bd194ecf@cmp-gaming.com
ORGANIZER;CN="Hawk":contact@cmp-gaming.com
DESCRIPTION:\n\n	 \n
DTSTART:20170505T180000Z
DTEND:20170505T215900Z
END:VEVENT
BEGIN:VEVENT
SUMMARY:FH2 \"A New Dawn\" - Scrim #1
DTSTAMP:20170425T145120Z
SEQUENCE:0
UID:10-1-1536b3ea569b7c95098fff41bd194ecf@cmp-gaming.com
ORGANIZER;CN="Papillon":contact@cmp-gaming.com
DESCRIPTION:\n\n	 \n
DTSTART:20170428T180000Z
DTEND:20170428T215900Z
END:VEVENT
BEGIN:VEVENT
SUMMARY:FH2 Game Night!
DTSTAMP:20170419T213141Z
SEQUENCE:0
UID:9-1-1536b3ea569b7c95098fff41bd194ecf@cmp-gaming.com
ORGANIZER;CN="kummitus":contact@cmp-gaming.com
DESCRIPTION:\n	FH2 Game Night! Be prepared!\n
DTSTART:20170421T180000Z
DTEND:20170421T220000Z
END:VEVENT
BEGIN:VEVENT
SUMMARY:Easter Game Night
DTSTAMP:20170414T075810Z
SEQUENCE:0
UID:8-1-1536b3ea569b7c95098fff41bd194ecf@cmp-gaming.com
ORGANIZER;CN="kummitus":contact@cmp-gaming.com
DESCRIPTION:\n	On agenda\, at least World of Warships\n
DTSTART;VALUE=DATE:20170414
END:VEVENT
BEGIN:VEVENT
SUMMARY:Community Filming Session
DTSTAMP:20170410T193843Z
SEQUENCE:0
UID:7-1-1536b3ea569b7c95098fff41bd194ecf@cmp-gaming.com
ORGANIZER;CN="kummitus":contact@cmp-gaming.com
DESCRIPTION:\n\n	Join us at shooting a trailer for upcoming campaign!\n\
	n\n\n	Location: Teamspeak and Our Forgotten Hope 2 server\n\n
DTSTART:20170412T180000Z
DTEND:20170412T200000Z
END:VEVENT
END:VCALENDAR
